BEGIN:VCALENDAR
VERSION:2.0
PRODID:-//Starter do kultury - ECPv6.15.11//NONSGML v1.0//EN
CALSCALE:GREGORIAN
METHOD:PUBLISH
X-WR-CALNAME:Starter do kultury
X-ORIGINAL-URL:https://starterdokultury.pl
X-WR-CALDESC:Wydarzenia dla Starter do kultury
REFRESH-INTERVAL;VALUE=DURATION:PT1H
X-Robots-Tag:noindex
X-PUBLISHED-TTL:PT1H
BEGIN:VTIMEZONE
TZID:Europe/Warsaw
BEGIN:DAYLIGHT
TZOFFSETFROM:+0100
TZOFFSETTO:+0200
TZNAME:CEST
DTSTART:20250330T010000
END:DAYLIGHT
BEGIN:STANDARD
TZOFFSETFROM:+0200
TZOFFSETTO:+0100
TZNAME:CET
DTSTART:20251026T010000
END:STANDARD
BEGIN:DAYLIGHT
TZOFFSETFROM:+0100
TZOFFSETTO:+0200
TZNAME:CEST
DTSTART:20260329T010000
END:DAYLIGHT
BEGIN:STANDARD
TZOFFSETFROM:+0200
TZOFFSETTO:+0100
TZNAME:CET
DTSTART:20261025T010000
END:STANDARD
BEGIN:DAYLIGHT
TZOFFSETFROM:+0100
TZOFFSETTO:+0200
TZNAME:CEST
DTSTART:20270328T010000
END:DAYLIGHT
BEGIN:STANDARD
TZOFFSETFROM:+0200
TZOFFSETTO:+0100
TZNAME:CET
DTSTART:20271031T010000
END:STANDARD
END:VTIMEZONE
BEGIN:VEVENT
DTSTART;TZID=Europe/Warsaw:20260421T090000
DTEND;TZID=Europe/Warsaw:20260421T130000
DTSTAMP:20260421T155330
CREATED:20260309T191608Z
LAST-MODIFIED:20260309T191608Z
UID:5541-1776762000-1776776400@starterdokultury.pl
SUMMARY:Warsztaty animacji poklatkowej
DESCRIPTION:Szkoła w ruch! \nZmień statyczne treści z podręczników w dynamiczne\, edukacyjne filmy animowane\, wcielając się w role scenarzystów i animatorów. Warsztaty uczą\, jak wizualizować wiedzę z przedmiotów ścisłych lub humanistycznych\, od historii po matematykę (np. wykresy funkcji). Uczestnicy obmyślają scenariusz\, tworzą elementy plastyczne (postacie\, scenografię) i realizują film poklatkowy\, używając tabletów i aplikacji Stop Motion Studio. To kreatywny sposób na utrwalenie materiału szkolnego oraz rozwój umiejętności cyfrowych i plastycznych. \nOrganizacja: Fundacja TREFL \nTerminy:\n14 kwietnia 2026 (wtorek)\, godz. 9:00–13:00\n21 kwietnia 2026 (wtorek)\, godz. 9:00–13:00\n28 kwietnia 2026 (wtorek)\, godz. 9:00–13:00\n15 maja 2026 (piątek)\, godz. 9:00–13:00\n22 maja 2026 (piątek)\, godz. 9:00–13:00\n29 maja 2026 (piątek)\, godz. 9:00–13:00\n2 czerwca 2026 (wtorek)\, godz. 9:00–13:00\n9 czerwca 2026 (wtorek)\, godz. 9:00–13:00\n16 czerwca 2026 (wtorek)\, godz. 9:00–13:00
URL:https://starterdokultury.pl/wydarzenie/warsztaty-animacji-poklatkowej-2/
LOCATION:Gdyńskie Centrum Animacji\, ul. Gołębia 9\, Gdynia
CATEGORIES:Warsztaty
ATTACH;FMTTYPE=image/webp:https://starterdokultury.pl/wp-content/uploads/2026/01/DSC08327-scaled.webp
END:VEVENT
BEGIN:VEVENT
DTSTART;TZID=Europe/Warsaw:20260421T100000
DTEND;TZID=Europe/Warsaw:20260421T140000
DTSTAMP:20260421T155330
CREATED:20260309T191306Z
LAST-MODIFIED:20260309T191306Z
UID:5529-1776765600-1776780000@starterdokultury.pl
SUMMARY:Podcast od podstaw
DESCRIPTION:Chcę zrobić podcast. Co dalej? \nOdkryj tajniki tworzenia własnego podcastu od podstaw. Nauczysz się planować\, nagrywać i publikować angażujące treści\, poznając zarówno techniczne aspekty realizacji dźwięku\, jak i merytoryczne zasady prowadzenia rozmowy. W praktyce stworzysz scenariusz i nagrasz zapowiedź swojego autorskiego podcastu\, wykorzystując cenne rady i doświadczenia Łukasza Laskowskiego\, współtwórcy popularnego podcastu „Podwójne Uderzenie”. Poznasz kroki postprodukcji\, publikacji na platformach takich jak Spotify oraz strategie promocji\, które pomogą Ci dotrzeć do słuchaczy. \nProwadzący: Łukasz Laskowski \nTerminy:\n14 kwietnia 2026 (wtorek)\, godz. 10:00–14:00\n21 kwietnia 2026 (wtorek)\, godz. 10:00–14:00\n12 maja 2026 (wtorek)\, godz. 10:00–14:00\n21 maja 2026 (czwartek)\, godz. 10:00–14:00\n2 czerwca 2026 (wtorek)\, godz. 10:00–14:00\n16 czerwca 2026 (wtorek)\, godz. 10:00–14:00
URL:https://starterdokultury.pl/wydarzenie/podcast-od-podstaw-2/
LOCATION:Gdyńskie Centrum Kultury / Konsulat Kultury\, ul. Jana z Kolna 25\, Gdynia\, 81-354\, Poland
CATEGORIES:Warsztaty
ATTACH;FMTTYPE=image/webp:https://starterdokultury.pl/wp-content/uploads/2026/01/gdynskie_centrum_flmowe_reel_north_podcast_fot_slawek_podwojski8.webp
END:VEVENT
BEGIN:VEVENT
DTSTART;TZID=Europe/Warsaw:20260421T100000
DTEND;TZID=Europe/Warsaw:20260421T140000
DTSTAMP:20260421T155330
CREATED:20260309T192745Z
LAST-MODIFIED:20260417T090452Z
UID:5595-1776765600-1776780000@starterdokultury.pl
SUMMARY:Warsztaty projektowania miasta
DESCRIPTION:Współtworzę miasto – kreatywne warsztaty projektowe \nCo sprawia\, że w mieście czujemy się dobrze i bezpiecznie? Czy młodzież może mieć wpływ na to\, jak wygląda przestrzeń? \nPodczas warsztatów wcielimy się w rolę projektantek i projektantów miasta. Będziemy analizować\, komu sprzyja obecna przestrzeń i jak ją ulepszyć. Poznamy narzędzia projektowe (mapy\, karty\, ankiety) a podczas spaceru badawczego będziemy obserwować\, jak działa miasto i tworzyć własne pomysły zmian. Inspiracją jest wystawa Filipa Kozarskiego „Obrzeża 2” o miejskich zjawiskach\, takich jak eksploracja pustostanów czy graffiti. Celem jest nauka uważnego i krytycznego patrzenia na przestrzeń oraz wprowadzanie zmian\, by była bardziej dostępna dla wszystkich. \nProwadząca: Natalia Wielebska \nTerminy:\n21 kwietnia 2026 (wtorek)\, godz. 10:00–14:00\n28 kwietnia 2026 (wtorek)\, godz. 10:00–14:00\n19 maja 2026 (wtorek)\, godz. 10:00–14:00\n26 maja 2026 (wtorek)\, godz. 10:00–14:00\n2 czerwca 2026 (wtorek)\, godz. 10:00–14:00\n9 czerwca 2026 (wtorek)\, godz. 10:00–14:00
URL:https://starterdokultury.pl/wydarzenie/warsztaty-projektowania-miasta/
LOCATION:Traffic Design\, ul. Żeromskiego 36\, Gdynia\, Poland
CATEGORIES:Warsztaty
ATTACH;FMTTYPE=image/webp:https://starterdokultury.pl/wp-content/uploads/2026/03/RAW_2239-1-scaled.webp
END:VEVENT
END:VCALENDAR