BEGIN:VCALENDAR
VERSION:2.0
PRODID:-//Starter do kultury - ECPv6.15.11//NONSGML v1.0//EN
CALSCALE:GREGORIAN
METHOD:PUBLISH
X-WR-CALNAME:Starter do kultury
X-ORIGINAL-URL:https://starterdokultury.pl
X-WR-CALDESC:Wydarzenia dla Starter do kultury
REFRESH-INTERVAL;VALUE=DURATION:PT1H
X-Robots-Tag:noindex
X-PUBLISHED-TTL:PT1H
BEGIN:VTIMEZONE
TZID:Europe/Warsaw
BEGIN:DAYLIGHT
TZOFFSETFROM:+0100
TZOFFSETTO:+0200
TZNAME:CEST
DTSTART:20250330T010000
END:DAYLIGHT
BEGIN:STANDARD
TZOFFSETFROM:+0200
TZOFFSETTO:+0100
TZNAME:CET
DTSTART:20251026T010000
END:STANDARD
BEGIN:DAYLIGHT
TZOFFSETFROM:+0100
TZOFFSETTO:+0200
TZNAME:CEST
DTSTART:20260329T010000
END:DAYLIGHT
BEGIN:STANDARD
TZOFFSETFROM:+0200
TZOFFSETTO:+0100
TZNAME:CET
DTSTART:20261025T010000
END:STANDARD
BEGIN:DAYLIGHT
TZOFFSETFROM:+0100
TZOFFSETTO:+0200
TZNAME:CEST
DTSTART:20270328T010000
END:DAYLIGHT
BEGIN:STANDARD
TZOFFSETFROM:+0200
TZOFFSETTO:+0100
TZNAME:CET
DTSTART:20271031T010000
END:STANDARD
END:VTIMEZONE
BEGIN:VEVENT
DTSTART;TZID=Europe/Warsaw:20260417T100000
DTEND;TZID=Europe/Warsaw:20260417T140000
DTSTAMP:20260420T095630
CREATED:20260310T083817Z
LAST-MODIFIED:20260310T083817Z
UID:5643-1776420000-1776434400@starterdokultury.pl
SUMMARY:Artystyczne warsztaty dobrostanowe
DESCRIPTION:Ciałostany – artystyczne warsztaty wzmacniające pewność siebie \nWedług Światowej Organizacji Zdrowia co druga nastolatka i co trzeci nastolatek w Polsce nie akceptuje własnego ciała. Duży wpływ na ten stan rzeczy mają media społecznościowe i reklamy.  \nWarsztaty w Fali Nowej Kultury składają się z dwóch części: psychologicznej i artystycznej. Podczas pierwszej części przyjrzymy się zjawisku braku akceptacji własnego ciała i własnemu stosunkowi do siebie. W ramach działań artystycznych (kolaż\, malarstwo\, techniki mieszane) młodzież stworzy obrazy łamiące zastane schematy i wyznaczy nowe trendy w rozumieniu „piękna”.  \nWarsztaty wzmocnią poczucie własnej wartości oraz dostarczą nastolatkom praktycznych narzędzi do pracy nad własną relacją z ciałem. \nProwadzące: Julia Tymańska i Antonina Lisatowicz \nTerminy:\n10 kwietnia 2026 (piątek)\, godz. 10:00–14:00\n17 kwietnia 2026 (piątek)\, godz. 10:00–14:00\n15 maja 2026 (piątek)\, godz. 10:00–14:00\n22 maja 2026 (piątek)\, godz. 10:00–14:00\n29 maja 2026 (piątek)\, godz. 10:00–14:00\n2 czerwca 2026 (wtorek)\, godz. 10:00–14:00\n9 czerwca 2026 (wtorek)\, godz. 10:00–14:00\n16 czerwca 2026 (wtorek)\, godz. 10:00–14:00
URL:https://starterdokultury.pl/wydarzenie/artystyczne-warsztaty-dobrostanowe-2/
LOCATION:Fala Nowej Kultury\, ul. Derdowskiego 9\, Gdynia\, Poland
CATEGORIES:Warsztaty
ATTACH;FMTTYPE=image/webp:https://starterdokultury.pl/wp-content/uploads/2026/03/2.webp
END:VEVENT
END:VCALENDAR